BEGIN:VCALENDAR
VERSION:2.0
PRODID:-//ExhibitionMatches.com//NONSGML v1.0//EN
BEGIN:VEVENT
UID=C4474991-C0A1-25CB-CD060A887D1DD087
DTSTAMP=20260425T174750Z
DTSTART;VALUE=DATE:20260509
DTEND;VALUE=DATE:20260510
SUMMARY:NO MERCY BATTLE IN THE BALLROOM WAR 
LOCATION:Joseph Walker Williams Rec Center, 8431 Rosa Parks Blvd ,, Detroit, MI, 48206
DESCRIPTION:View full event details: https://wrestlingtournaments.org/view.cfm?ID=107186

URL;VALUE=URI:https://wrestlingtournaments.org/view.cfm?ID=107186
END:VEVENT
END:VCALENDAR